BEGIN:VCALENDAR
VERSION:2.0
PRODID:-//Tukios.com/
BEGIN:VEVENT
UID:e5e759f8-defc-434c-99f4-63af736d31e8@www.colonialfuneralhome.com
DTSTAMP:20260421T173934Z
DTSTART:20260427T220000Z
DTEND:20260428T000000Z
SUMMARY:Memorial Gathering
DESCRIPTION:
URL:https://www.colonialfuneralhome.com/obituaries/helen-dollarton
LOCATION: 201 Edwards Ferry Rd NE  Leesburg VA 20176
GEO:39.1142077;-77.5609566
END:VEVENT
END:VCALENDAR